BEGIN:VCALENDAR
VERSION:2.0
PRODID:-//Medical Associates Hospital - ECPv6.15.3//NONSGML v1.0//EN
CALSCALE:GREGORIAN
METHOD:PUBLISH
X-ORIGINAL-URL:https://www.medicalassociatestt.info
X-WR-CALDESC:Events for Medical Associates Hospital
REFRESH-INTERVAL;VALUE=DURATION:PT1H
X-Robots-Tag:noindex
X-PUBLISHED-TTL:PT1H
BEGIN:VTIMEZONE
TZID:America/Halifax
BEGIN:DAYLIGHT
TZOFFSETFROM:-0400
TZOFFSETTO:-0300
TZNAME:ADT
DTSTART:20220313T060000
END:DAYLIGHT
BEGIN:STANDARD
TZOFFSETFROM:-0300
TZOFFSETTO:-0400
TZNAME:AST
DTSTART:20221106T050000
END:STANDARD
BEGIN:DAYLIGHT
TZOFFSETFROM:-0400
TZOFFSETTO:-0300
TZNAME:ADT
DTSTART:20230312T060000
END:DAYLIGHT
BEGIN:STANDARD
TZOFFSETFROM:-0300
TZOFFSETTO:-0400
TZNAME:AST
DTSTART:20231105T050000
END:STANDARD
END:VTIMEZONE
BEGIN:VEVENT
DTSTART;TZID=America/Halifax:20230627T080000
DTEND;TZID=America/Halifax:20230627T170000
DTSTAMP:20260423T121540
CREATED:20230612T133503Z
LAST-MODIFIED:20230612T133506Z
UID:14176-1687852800-1687885200@www.medicalassociatestt.info
SUMMARY:National HIV Testing Day
DESCRIPTION:Know Your Status!! Get Tested Today!!
URL:https://www.medicalassociatestt.info/event/national-hiv-testing-day/
END:VEVENT
BEGIN:VEVENT
DTSTART;TZID=America/Halifax:20230619T080000
DTEND;TZID=America/Halifax:20230619T170000
DTSTAMP:20260423T121540
CREATED:20230612T133834Z
LAST-MODIFIED:20230612T133835Z
UID:14178-1687161600-1687194000@www.medicalassociatestt.info
SUMMARY:Labour Day
DESCRIPTION:Let’s celebrate the Labour that built this land!
URL:https://www.medicalassociatestt.info/event/labour-day/
END:VEVENT
BEGIN:VEVENT
DTSTART;TZID=America/Halifax:20230618T080000
DTEND;TZID=America/Halifax:20230618T170000
DTSTAMP:20260423T121540
CREATED:20230612T133403Z
LAST-MODIFIED:20230612T133405Z
UID:14173-1687075200-1687107600@www.medicalassociatestt.info
SUMMARY:Father's Day
DESCRIPTION:Discounts on Male Wellness Package (Father’s Day Special)
URL:https://www.medicalassociatestt.info/event/fathers-day/
END:VEVENT
BEGIN:VEVENT
DTSTART;TZID=America/Halifax:20220729T080000
DTEND;TZID=America/Halifax:20220729T160000
DTSTAMP:20260423T121540
CREATED:20220721T144456Z
LAST-MODIFIED:20220721T144458Z
UID:13908-1659081600-1659110400@www.medicalassociatestt.info
SUMMARY:Emancipation Day Celebrations
DESCRIPTION:
URL:https://www.medicalassociatestt.info/event/emancipation-day-celebrations/
END:VEVENT
END:VCALENDAR